BEGIN:VCALENDAR
VERSION:2.0
PRODID:-//San Joaquin Pride Center - ECPv6.15.20//NONSGML v1.0//EN
CALSCALE:GREGORIAN
METHOD:PUBLISH
X-WR-CALNAME:San Joaquin Pride Center
X-ORIGINAL-URL:https://sjpride.center
X-WR-CALDESC:Events for San Joaquin Pride Center
REFRESH-INTERVAL;VALUE=DURATION:PT1H
X-Robots-Tag:noindex
X-PUBLISHED-TTL:PT1H
BEGIN:VTIMEZONE
TZID:America/Los_Angeles
BEGIN:DAYLIGHT
TZOFFSETFROM:-0800
TZOFFSETTO:-0700
TZNAME:PDT
DTSTART:20230312T100000
END:DAYLIGHT
BEGIN:STANDARD
TZOFFSETFROM:-0700
TZOFFSETTO:-0800
TZNAME:PST
DTSTART:20231105T090000
END:STANDARD
BEGIN:DAYLIGHT
TZOFFSETFROM:-0800
TZOFFSETTO:-0700
TZNAME:PDT
DTSTART:20240310T100000
END:DAYLIGHT
BEGIN:STANDARD
TZOFFSETFROM:-0700
TZOFFSETTO:-0800
TZNAME:PST
DTSTART:20241103T090000
END:STANDARD
BEGIN:DAYLIGHT
TZOFFSETFROM:-0800
TZOFFSETTO:-0700
TZNAME:PDT
DTSTART:20250309T100000
END:DAYLIGHT
BEGIN:STANDARD
TZOFFSETFROM:-0700
TZOFFSETTO:-0800
TZNAME:PST
DTSTART:20251102T090000
END:STANDARD
BEGIN:DAYLIGHT
TZOFFSETFROM:-0800
TZOFFSETTO:-0700
TZNAME:PDT
DTSTART:20260308T100000
END:DAYLIGHT
BEGIN:STANDARD
TZOFFSETFROM:-0700
TZOFFSETTO:-0800
TZNAME:PST
DTSTART:20261101T090000
END:STANDARD
END:VTIMEZONE
BEGIN:VEVENT
DTSTART;TZID=America/Los_Angeles:20250822T170000
DTEND;TZID=America/Los_Angeles:20250822T170000
DTSTAMP:20260420T180133
CREATED:20250821T200640Z
LAST-MODIFIED:20250821T200640Z
UID:7954-1755882000-1755882000@sjpride.center
SUMMARY:Rainbow Youth Alliance Meeting (in-person)
DESCRIPTION:The Rainbow Youth Alliance\, SJPC’s youth council is meeting Friday 8/22 5PM-8PM \nThe youth council will create a Power Map of LGBT+ culture in San Joaquin County\, in addition\, we’ll be discussing our next issue of Let Me Be Perfectly Queer magazine. \n  \nCheck out the first issue here: Let Me Be Perfectly Queer #1
URL:https://sjpride.center/event/rainbow-youth-alliance-meeting-in-person/
LOCATION:SJPC Downtown Office\, 145 E. Weber Ave.\, Stockton\, CA\, 95202\, United States
ATTACH;FMTTYPE=image/png:https://sjpride.center/wp-content/uploads/2025/08/Rainbow-Youth-Alliance_logo_A.png
END:VEVENT
BEGIN:VEVENT
DTSTART;TZID=America/Los_Angeles:20241026T160000
DTEND;TZID=America/Los_Angeles:20241026T200000
DTSTAMP:20260420T180133
CREATED:20241015T201316Z
LAST-MODIFIED:20241015T201316Z
UID:7521-1729958400-1729972800@sjpride.center
SUMMARY:Yosemite Street Village: Trunk or Treat
DESCRIPTION:
URL:https://sjpride.center/event/yosemite-street-village-trunk-or-treat/
LOCATION:CA
END:VEVENT
BEGIN:VEVENT
DTSTART;TZID=America/Los_Angeles:20241025T170000
DTEND;TZID=America/Los_Angeles:20241025T200000
DTSTAMP:20260420T180133
CREATED:20241015T201236Z
LAST-MODIFIED:20241015T201236Z
UID:7519-1729875600-1729886400@sjpride.center
SUMMARY:SpeQtrum Halloween Party
DESCRIPTION:
URL:https://sjpride.center/event/speqtrum-halloween-party/
LOCATION:CA
END:VEVENT
BEGIN:VEVENT
DTSTART;TZID=America/Los_Angeles:20241024T170000
DTEND;TZID=America/Los_Angeles:20241024T180000
DTSTAMP:20260420T180133
CREATED:20241015T201103Z
LAST-MODIFIED:20241015T201103Z
UID:7517-1729789200-1729792800@sjpride.center
SUMMARY:TRANSform Support Group
DESCRIPTION:Ages 18 and younger: 4pm-5pm \n18 and older: 5pm-6pm
URL:https://sjpride.center/event/transform-support-group/
LOCATION:CA
END:VEVENT
BEGIN:VEVENT
DTSTART;TZID=America/Los_Angeles:20241023T180000
DTEND;TZID=America/Los_Angeles:20241023T193000
DTSTAMP:20260420T180133
CREATED:20241015T201004Z
LAST-MODIFIED:20241015T201004Z
UID:7515-1729706400-1729711800@sjpride.center
SUMMARY:Eating Smart & Being Active
DESCRIPTION:
URL:https://sjpride.center/event/eating-smart-being-active/
LOCATION:CA
END:VEVENT
BEGIN:VEVENT
DTSTART;TZID=America/Los_Angeles:20241016T180000
DTEND;TZID=America/Los_Angeles:20241016T193000
DTSTAMP:20260420T180133
CREATED:20241015T200856Z
LAST-MODIFIED:20241015T200856Z
UID:7513-1729101600-1729107000@sjpride.center
SUMMARY:Healthy Selfie: Loss and Remembrance Night
DESCRIPTION:
URL:https://sjpride.center/event/healthy-selfie-loss-and-remembrance-night/
LOCATION:CA
END:VEVENT
BEGIN:VEVENT
DTSTART;TZID=America/Los_Angeles:20241005T100000
DTEND;TZID=America/Los_Angeles:20241005T180000
DTSTAMP:20260420T180133
CREATED:20241001T190744Z
LAST-MODIFIED:20241001T190841Z
UID:7407-1728122400-1728151200@sjpride.center
SUMMARY:Stockton Pride
DESCRIPTION:
URL:https://sjpride.center/event/stockton-pride/
LOCATION:Yosemite Street Village\, Stockton\, CA\, United States
ATTACH;FMTTYPE=image/png:https://sjpride.center/wp-content/uploads/2024/10/Stockton-Pride.png
END:VEVENT
END:VCALENDAR