BEGIN:VCALENDAR
VERSION:2.0
PRODID:-//San Joaquin Pride Center - ECPv6.15.20//NONSGML v1.0//EN
CALSCALE:GREGORIAN
METHOD:PUBLISH
X-WR-CALNAME:San Joaquin Pride Center
X-ORIGINAL-URL:https://sjpride.center
X-WR-CALDESC:Events for San Joaquin Pride Center
REFRESH-INTERVAL;VALUE=DURATION:PT1H
X-Robots-Tag:noindex
X-PUBLISHED-TTL:PT1H
BEGIN:VTIMEZONE
TZID:America/Los_Angeles
BEGIN:DAYLIGHT
TZOFFSETFROM:-0800
TZOFFSETTO:-0700
TZNAME:PDT
DTSTART:20250309T100000
END:DAYLIGHT
BEGIN:STANDARD
TZOFFSETFROM:-0700
TZOFFSETTO:-0800
TZNAME:PST
DTSTART:20251102T090000
END:STANDARD
BEGIN:DAYLIGHT
TZOFFSETFROM:-0800
TZOFFSETTO:-0700
TZNAME:PDT
DTSTART:20260308T100000
END:DAYLIGHT
BEGIN:STANDARD
TZOFFSETFROM:-0700
TZOFFSETTO:-0800
TZNAME:PST
DTSTART:20261101T090000
END:STANDARD
BEGIN:DAYLIGHT
TZOFFSETFROM:-0800
TZOFFSETTO:-0700
TZNAME:PDT
DTSTART:20270314T100000
END:DAYLIGHT
BEGIN:STANDARD
TZOFFSETFROM:-0700
TZOFFSETTO:-0800
TZNAME:PST
DTSTART:20271107T090000
END:STANDARD
END:VTIMEZONE
BEGIN:VEVENT
DTSTART;TZID=America/Los_Angeles:20260205T180000
DTEND;TZID=America/Los_Angeles:20260205T193000
DTSTAMP:20260420T061041
CREATED:20260129T191250Z
LAST-MODIFIED:20260129T191250Z
UID:8111-1770314400-1770319800@sjpride.center
SUMMARY:SJPC Potluck February 5\, 2026
DESCRIPTION:We are excited to welcome back our monthly community potluck! This is a time for all members of our LGBTQ+ community\, their families (kids are welcome)\, and our allies to gather to share a meal and catch up. We will also provide an update on what is happening at the Pride Center.  SJPC will provide all plates\, napkins\, utensils\, and non-alcoholic beverages. This is an alcohol-free event. Please do not bring or consume alcohol on-site. \n\n📅 Thursday\, February 5\, 20266 from 6 PM to 7:30 PM\n145 E. Weber Ave. Stockton\, CA 95202
URL:https://sjpride.center/event/sjpc-potluck-february-5-2026/
LOCATION:145 E. Weber Ave. Stockton\, CA 95202\, 145 E. Weber Ave.\, Stockton\, CA\, 95202\, United States
ATTACH;FMTTYPE=image/jpeg:https://sjpride.center/wp-content/uploads/2026/01/1000048674.jpeg
END:VEVENT
END:VCALENDAR