BEGIN:VCALENDAR
VERSION:2.0
PRODID:-//San Joaquin Pride Center - ECPv6.15.20//NONSGML v1.0//EN
CALSCALE:GREGORIAN
METHOD:PUBLISH
X-WR-CALNAME:San Joaquin Pride Center
X-ORIGINAL-URL:https://sjpride.center
X-WR-CALDESC:Events for San Joaquin Pride Center
REFRESH-INTERVAL;VALUE=DURATION:PT1H
X-Robots-Tag:noindex
X-PUBLISHED-TTL:PT1H
BEGIN:VTIMEZONE
TZID:America/Los_Angeles
BEGIN:DAYLIGHT
TZOFFSETFROM:-0800
TZOFFSETTO:-0700
TZNAME:PDT
DTSTART:20240310T100000
END:DAYLIGHT
BEGIN:STANDARD
TZOFFSETFROM:-0700
TZOFFSETTO:-0800
TZNAME:PST
DTSTART:20241103T090000
END:STANDARD
BEGIN:DAYLIGHT
TZOFFSETFROM:-0800
TZOFFSETTO:-0700
TZNAME:PDT
DTSTART:20250309T100000
END:DAYLIGHT
BEGIN:STANDARD
TZOFFSETFROM:-0700
TZOFFSETTO:-0800
TZNAME:PST
DTSTART:20251102T090000
END:STANDARD
BEGIN:DAYLIGHT
TZOFFSETFROM:-0800
TZOFFSETTO:-0700
TZNAME:PDT
DTSTART:20260308T100000
END:DAYLIGHT
BEGIN:STANDARD
TZOFFSETFROM:-0700
TZOFFSETTO:-0800
TZNAME:PST
DTSTART:20261101T090000
END:STANDARD
BEGIN:DAYLIGHT
TZOFFSETFROM:-0800
TZOFFSETTO:-0700
TZNAME:PDT
DTSTART:20270314T100000
END:DAYLIGHT
BEGIN:STANDARD
TZOFFSETFROM:-0700
TZOFFSETTO:-0800
TZNAME:PST
DTSTART:20271107T090000
END:STANDARD
END:VTIMEZONE
BEGIN:VEVENT
DTSTART;TZID=America/Los_Angeles:20251219T080000
DTEND;TZID=America/Los_Angeles:20260112T170000
DTSTAMP:20260420T073930
CREATED:20251216T233412Z
LAST-MODIFIED:20251216T233412Z
UID:8088-1766131200-1768237200@sjpride.center
SUMMARY:Closed for the Holiday Season 12/19 - 01/12
DESCRIPTION:
URL:https://sjpride.center/event/closed-for-the-holiday-season-12-19-01-12/
LOCATION:145 E. Weber Ave. Stockton\, CA 95202\, 145 E. Weber Ave.\, Stockton\, CA\, 95202\, United States
ATTACH;FMTTYPE=image/png:https://sjpride.center/wp-content/uploads/2025/12/Holiday-Post-1.png
END:VEVENT
END:VCALENDAR